BEGIN:VCALENDAR
VERSION:2.0
PRODID:-//wp-events-plugin.com//7.0.5//EN
BEGIN:VEVENT
UID:0-69@libraries.ne.gov
DTSTART:20240423T170000Z
DTEND:20240425T190000Z
DTSTAMP:20240327T224430Z
URL:https://libraries.ne.gov/ceresco/events/decorate-a-flower-pot-take-hom
 e-a-seedling/
SUMMARY:Decorate a Flower Pot &amp\; Take Home a Seedling
DESCRIPTION:
END:VEVENT
END:VCALENDAR