BEGIN:VCALENDAR
VERSION:2.0
PRODID:-//wp-events-plugin.com//7.0.5//EN
BEGIN:VEVENT
UID:0-71@libraries.ne.gov
DTSTART:20240523T180000Z
DTEND:20240523T190000Z
DTSTAMP:20240417T224700Z
URL:https://libraries.ne.gov/ceresco/events/teen-book-club/
SUMMARY:Teen Book Club
DESCRIPTION:
END:VEVENT
END:VCALENDAR